BEGIN:VCALENDAR
VERSION:2.0
PRODID:-//eventon.com NONSGML v1.0//EN
CALSCALE:GREGORIAN
METHOD:PUBLISH
BEGIN:VEVENT
UID:69e5f94400777
DTSTAMP:20260420T100036Z
DTSTART:20241022
DTEND:20241023
LOCATION:
SUMMARY:INSET Day
DESCRIPTION:\nhttps://www.esher.ac.uk/events/inset-day-11/
URL:https://www.esher.ac.uk/events/inset-day-11/
END:VEVENT
END:VCALENDAR