BEGIN:VCALENDAR
VERSION:2.0
PRODID:-//eventon.com NONSGML v1.0//EN
CALSCALE:GREGORIAN
METHOD:PUBLISH
BEGIN:VEVENT
UID:69e6a8a810488
DTSTAMP:20260420T222856Z
DTSTART:20241128T170000Z
DTEND:20241128T203000Z
LOCATION:
SUMMARY:6.1 Progress Review Evening
DESCRIPTION:\nhttps://www.esher.ac.uk/events/parents-evening-2-2/
URL:https://www.esher.ac.uk/events/parents-evening-2-2/
END:VEVENT
END:VCALENDAR