BEGIN:VCALENDAR
VERSION:2.0
PRODID:-//eventon.com NONSGML v1.0//EN
CALSCALE:GREGORIAN
METHOD:PUBLISH
BEGIN:VEVENT
UID:69e4d6776e50b
DTSTAMP:20260419T131951Z
DTSTART:20240326
DTEND:20240327
LOCATION:
SUMMARY:London Zoo - Biology Trip
DESCRIPTION:\nhttps://www.esher.ac.uk/events/london-zoo-biology-trip/
URL:https://www.esher.ac.uk/events/london-zoo-biology-trip/
END:VEVENT
END:VCALENDAR