BEGIN:VCALENDAR
VERSION:2.0
PRODID:-//eventon.com NONSGML v1.0//EN
CALSCALE:GREGORIAN
METHOD:PUBLISH
BEGIN:VEVENT
UID:69e5e5450fd00
DTSTAMP:20260420T083517Z
DTSTART:20240322
DTEND:20240323
LOCATION:
SUMMARY:Geography Urban Fieldwork
DESCRIPTION:\nhttps://www.esher.ac.uk/events/geography-urban-fieldwork-3/
URL:https://www.esher.ac.uk/events/geography-urban-fieldwork-3/
END:VEVENT
END:VCALENDAR