BEGIN:VCALENDAR
VERSION:2.0
PRODID:-//eventon.com NONSGML v1.0//EN
CALSCALE:GREGORIAN
METHOD:PUBLISH
BEGIN:VEVENT
UID:69ed241bb0d7b
DTSTAMP:20260425T202915Z
DTSTART:20240206
DTEND:20240207
LOCATION:
SUMMARY:Community Sports Leaders - Racquet Pack Event
DESCRIPTION:\nhttps://www.esher.ac.uk/events/community-sports-leaders-racqu
 et-pack-event/
URL:https://www.esher.ac.uk/events/community-sports-leaders-racquet-pack-event/
END:VEVENT
END:VCALENDAR