BEGIN:VCALENDAR
VERSION:2.0
PRODID:-//eventon.com NONSGML v1.0//EN
CALSCALE:GREGORIAN
METHOD:PUBLISH
BEGIN:VEVENT
UID:69e88a8f475a3
DTSTAMP:20260422T084503Z
DTSTART:20260629
DTEND:20260630
LOCATION:
SUMMARY:Parent/Carer Talk: Student Finance
DESCRIPTION:\nhttps://www.esher.ac.uk/events/parent-carer-talk-student-fina
 nce/
URL:https://www.esher.ac.uk/events/parent-carer-talk-student-finance/
END:VEVENT
END:VCALENDAR