BEGIN:VCALENDAR
VERSION:2.0
PRODID:-//eventon.com NONSGML v1.0//EN
CALSCALE:GREGORIAN
METHOD:PUBLISH
BEGIN:VEVENT
UID:69e5fa008adad
DTSTAMP:20260420T100344Z
DTSTART:20260518T080000Z
DTEND:20260522T160000Z
LOCATION:
SUMMARY:6.1 Assessment Week
DESCRIPTION:\nhttps://www.esher.ac.uk/events/6-1-assessment-week/
URL:https://www.esher.ac.uk/events/6-1-assessment-week/
END:VEVENT
END:VCALENDAR