BEGIN:VCALENDAR
VERSION:2.0
PRODID:-//eventon.com NONSGML v1.0//EN
CALSCALE:GREGORIAN
METHOD:PUBLISH
BEGIN:VEVENT
UID:69e5f9e9a9104
DTSTAMP:20260420T100321Z
DTSTART:20260820
DTEND:20260821
LOCATION:
SUMMARY:GCSE Results Day
DESCRIPTION:\nhttps://www.esher.ac.uk/events/gcse-results-day/
URL:https://www.esher.ac.uk/events/gcse-results-day/
END:VEVENT
END:VCALENDAR