BEGIN:VCALENDAR
VERSION:2.0
PRODID:-//eventon.com NONSGML v1.0//EN
CALSCALE:GREGORIAN
METHOD:PUBLISH
BEGIN:VEVENT
UID:69e5f94408376
DTSTAMP:20260420T100036Z
DTSTART:20261001
DTEND:20261002
LOCATION:
SUMMARY:Ballot Results for Entry 2027
DESCRIPTION:The results of the open applicant ballot will be released after
  3pm.\nhttps://www.esher.ac.uk/events/ballot-results-for-open-applicants-2/
URL:https://www.esher.ac.uk/events/ballot-results-for-open-applicants-2/
END:VEVENT
END:VCALENDAR