BEGIN:VCALENDAR
VERSION:2.0
PRODID:-//eventon.com NONSGML v1.0//EN
CALSCALE:GREGORIAN
METHOD:PUBLISH
BEGIN:VEVENT
UID:69e5f706e5692
DTSTAMP:20260420T095102Z
DTSTART:20260929
DTEND:20260930
LOCATION:
SUMMARY:Applications Close for Entry 2027
DESCRIPTION:Applications for entry 2027 close at midday. Applications Open:
 &nbsp;29 July 2026\,  at 10amApplications Close: 29 September 2026\,  at mi
 ddayResults of the Open Applicant Ballot and Confirmation of Place: 1 Octob
 er 2026\,  after 3pm\nhttps://www.esher.ac.uk/events/applications-close/
URL:https://www.esher.ac.uk/events/applications-close/
END:VEVENT
END:VCALENDAR