BEGIN:VCALENDAR
VERSION:2.0
PRODID:-//eventon.com NONSGML v1.0//EN
CALSCALE:GREGORIAN
METHOD:PUBLISH
BEGIN:VEVENT
UID:69e5f9a425683
DTSTAMP:20260420T100212Z
DTSTART:20260813
DTEND:20260814
LOCATION:
SUMMARY:A Level Results Day
DESCRIPTION:\nhttps://www.esher.ac.uk/events/a-level-results-day/
URL:https://www.esher.ac.uk/events/a-level-results-day/
END:VEVENT
END:VCALENDAR