BEGIN:VCALENDAR
VERSION:2.0
PRODID:-//eventon.com NONSGML v1.0//EN
CALSCALE:GREGORIAN
METHOD:PUBLISH
BEGIN:VEVENT
UID:69e5fa00a3ef0
DTSTAMP:20260420T100344Z
DTSTART:20260511
DTEND:20260512
LOCATION:
SUMMARY:6.2 Exam Leave
DESCRIPTION:\nhttps://www.esher.ac.uk/events/6-2-exam-leave-3/
URL:https://www.esher.ac.uk/events/6-2-exam-leave-3/
END:VEVENT
END:VCALENDAR