BEGIN:VCALENDAR
VERSION:2.0
PRODID:-//eventon.com NONSGML v1.0//EN
CALSCALE:GREGORIAN
METHOD:PUBLISH
BEGIN:VEVENT
UID:69e5f99843e09
DTSTAMP:20260420T100200Z
DTSTART:20260414
DTEND:20260415
LOCATION:
SUMMARY:Film Studies Screening Day of Specification Short Films
DESCRIPTION:\nhttps://www.esher.ac.uk/events/film-studies-screening-day-of-
 specification-short-films-2/
URL:https://www.esher.ac.uk/events/film-studies-screening-day-of-specification-short-films-2/
END:VEVENT
END:VCALENDAR