BEGIN:VCALENDAR
VERSION:2.0
PRODID:-//eventon.com NONSGML v1.0//EN
CALSCALE:GREGORIAN
METHOD:PUBLISH
BEGIN:VEVENT
UID:69e5f98f811e9
DTSTAMP:20260420T100151Z
DTSTART:20260604T080000Z
DTEND:20260607T160000Z
LOCATION:
SUMMARY:Geography Trip to Sicily
DESCRIPTION:\nhttps://www.esher.ac.uk/events/geography-trip-to-sicily/
URL:https://www.esher.ac.uk/events/geography-trip-to-sicily/
END:VEVENT
END:VCALENDAR