BEGIN:VCALENDAR
VERSION:2.0
PRODID:-//eventon.com NONSGML v1.0//EN
CALSCALE:GREGORIAN
METHOD:PUBLISH
BEGIN:VEVENT
UID:69e88c2ee2aaf
DTSTAMP:20260422T085158Z
DTSTART:20260602T080000Z
DTEND:20260607T160000Z
LOCATION:
SUMMARY:Politics Trip to Berlin
DESCRIPTION:\nhttps://www.esher.ac.uk/events/politics-trip-to-berlin/
URL:https://www.esher.ac.uk/events/politics-trip-to-berlin/
END:VEVENT
END:VCALENDAR