BEGIN:VCALENDAR
VERSION:2.0
PRODID:-//eventon.com NONSGML v1.0//EN
CALSCALE:GREGORIAN
METHOD:PUBLISH
BEGIN:VEVENT
UID:69e88cd285781
DTSTAMP:20260422T085442Z
DTSTART:20260603
DTEND:20260604
LOCATION:
SUMMARY:DofE Canoeing Qualifying Expedition 2026 - River Wye
DESCRIPTION:\nhttps://www.esher.ac.uk/events/duke-of-edinburgh-canoeing-qua
 lifying-expedition-2026-river-wye/
URL:https://www.esher.ac.uk/events/duke-of-edinburgh-canoeing-qualifying-expedition-2026-river-wye/
END:VEVENT
END:VCALENDAR