BEGIN:VCALENDAR
VERSION:2.0
PRODID:-//eventon.com NONSGML v1.0//EN
CALSCALE:GREGORIAN
METHOD:PUBLISH
BEGIN:VEVENT
UID:69e88bb7741b6
DTSTAMP:20260422T084959Z
DTSTART:20260601
DTEND:20260602
LOCATION:
SUMMARY:Visit to the Power Up Exhibition at the Science Museum
DESCRIPTION:\nhttps://www.esher.ac.uk/events/visit-to-the-power-up-exhibiti
 on-at-the-science-museum/
URL:https://www.esher.ac.uk/events/visit-to-the-power-up-exhibition-at-the-science-museum/
END:VEVENT
END:VCALENDAR