BEGIN:VCALENDAR
VERSION:2.0
PRODID:-//eventon.com NONSGML v1.0//EN
CALSCALE:GREGORIAN
METHOD:PUBLISH
BEGIN:VEVENT
UID:69e88ab8c91d8
DTSTAMP:20260422T084544Z
DTSTART:20260407T200000Z
DTEND:20260409T160000Z
LOCATION:
SUMMARY:Nuremberg Event - Churchill College
DESCRIPTION:\nhttps://www.esher.ac.uk/events/nuremberg-event-at-churchill-c
 ollege/
URL:https://www.esher.ac.uk/events/nuremberg-event-at-churchill-college/
END:VEVENT
END:VCALENDAR