BEGIN:VCALENDAR
VERSION:2.0
PRODID:-//eventon.com NONSGML v1.0//EN
CALSCALE:GREGORIAN
METHOD:PUBLISH
BEGIN:VEVENT
UID:69e8532a0746a
DTSTAMP:20260422T044842Z
DTSTART:20260707
DTEND:20260708
LOCATION:
SUMMARY:INSET Day
DESCRIPTION:\nhttps://www.esher.ac.uk/events/inset-day-20/
URL:https://www.esher.ac.uk/events/inset-day-20/
END:VEVENT
END:VCALENDAR