BEGIN:VCALENDAR
VERSION:2.0
PRODID:-//eventon.com NONSGML v1.0//EN
CALSCALE:GREGORIAN
METHOD:PUBLISH
BEGIN:VEVENT
UID:69e854bf52532
DTSTAMP:20260422T045527Z
DTSTART:20260601
DTEND:20260602
LOCATION:
SUMMARY:INSET Day
DESCRIPTION:\nhttps://www.esher.ac.uk/events/inset-day-18/
URL:https://www.esher.ac.uk/events/inset-day-18/
END:VEVENT
END:VCALENDAR