BEGIN:VCALENDAR
VERSION:2.0
PRODID:-//eventon.com NONSGML v1.0//EN
CALSCALE:GREGORIAN
METHOD:PUBLISH
BEGIN:VEVENT
UID:69e88f8c1fc9b
DTSTAMP:20260422T090620Z
DTSTART:20260504
DTEND:20260505
LOCATION:
SUMMARY:May Day Bank Holiday
DESCRIPTION:\nhttps://www.esher.ac.uk/events/may-day-bank-holiday-2/
URL:https://www.esher.ac.uk/events/may-day-bank-holiday-2/
END:VEVENT
END:VCALENDAR