BEGIN:VCALENDAR
VERSION:2.0
PRODID:-//eventon.com NONSGML v1.0//EN
CALSCALE:GREGORIAN
METHOD:PUBLISH
BEGIN:VEVENT
UID:69e5fa0e3ace3
DTSTAMP:20260420T100358Z
DTSTART:20260525
DTEND:20260526
LOCATION:
SUMMARY:Half Term
DESCRIPTION:\nhttps://www.esher.ac.uk/events/half-term-12/
URL:https://www.esher.ac.uk/events/half-term-12/
END:VEVENT
END:VCALENDAR