BEGIN:VCALENDAR
VERSION:2.0
PRODID:-//eventon.com NONSGML v1.0//EN
CALSCALE:GREGORIAN
METHOD:PUBLISH
BEGIN:VEVENT
UID:69e7503bb44a7
DTSTAMP:20260421T102355Z
DTSTART:20260327
DTEND:20260328
LOCATION:
SUMMARY:End of Term
DESCRIPTION:\nhttps://www.esher.ac.uk/events/end-of-term-8/
URL:https://www.esher.ac.uk/events/end-of-term-8/
END:VEVENT
END:VCALENDAR