BEGIN:VCALENDAR
VERSION:2.0
PRODID:-//eventon.com NONSGML v1.0//EN
CALSCALE:GREGORIAN
METHOD:PUBLISH
BEGIN:VEVENT
UID:69e73a28df8a1
DTSTAMP:20260421T084944Z
DTSTART:20250129
DTEND:20250130
LOCATION:
SUMMARY:Trip to Churchill College Cambridge
DESCRIPTION:\nhttps://www.esher.ac.uk/events/trip-to-churchill-college-camb
 ridge/
URL:https://www.esher.ac.uk/events/trip-to-churchill-college-cambridge/
END:VEVENT
END:VCALENDAR