BEGIN:VCALENDAR
VERSION:2.0
PRODID:-//eventon.com NONSGML v1.0//EN
CALSCALE:GREGORIAN
METHOD:PUBLISH
BEGIN:VEVENT
UID:69e73de590b49
DTSTAMP:20260421T090541Z
DTSTART:20250115
DTEND:20250116
LOCATION:
SUMMARY:Museum of Brands Business Trip
DESCRIPTION:\nhttps://www.esher.ac.uk/events/museum-of-brands-business-trip
 /
URL:https://www.esher.ac.uk/events/museum-of-brands-business-trip/
END:VEVENT
END:VCALENDAR